BEGIN:VCALENDAR
VERSION:2.0
PRODID:-// - ECPv6.0.6.2//NONSGML v1.0//EN
CALSCALE:GREGORIAN
METHOD:PUBLISH
X-ORIGINAL-URL:https://isarsparer.de
X-WR-CALDESC:Veranstaltungen im 
REFRESH-INTERVAL;VALUE=DURATION:PT1H
X-Robots-Tag:noindex
X-PUBLISHED-TTL:PT1H
BEGIN:VTIMEZONE
TZID:Europe/Berlin
BEGIN:DAYLIGHT
TZOFFSETFROM:+0100
TZOFFSETTO:+0200
TZNAME:CEST
DTSTART:20180325T010000
END:DAYLIGHT
BEGIN:STANDARD
TZOFFSETFROM:+0200
TZOFFSETTO:+0100
TZNAME:CET
DTSTART:20181028T010000
END:STANDARD
END:VTIMEZONE
BEGIN:VEVENT
DTSTART;TZID=Europe/Berlin:20180122T100000
DTEND;TZID=Europe/Berlin:20180218T190000
DTSTAMP:20260419T230519
CREATED:20180122T002258Z
LAST-MODIFIED:20180125T091603Z
UID:2611-1516615200-1518980400@isarsparer.de
SUMMARY:Family & Friends WSV 2018 bei Schustermann & Borenstein
DESCRIPTION:Endlich ist es wieder soweit: Der beliebte „Family & Friends“  Sonderverkauf bei Schustermann & Borenstein ist gestartet. \nEs ist einer der beliebtesten Posts auf ISARSPARER: Mein Beitrag über die Sonderverkauf-Aktionen von Schustermann & Borenstein. \nBis Samstag\, den 17. Februar 2018 habt ihr nun wieder die Möglichkeit\, im Sonderverkauf der Schubo-Filialen in München und Aschheim und den dortigen Second-Season-Stores\, nach Schnäppchen zu jagen (in der Filiale an der Ingolstädter-Straße zusätzlich auch noch in der Kinderabteilung).  Denn der Zugang zu Family & Friends ist für jedermann möglich – anders als zu Schustermann & Borenstein\, aber das könnt ihr in meinem Blogpost genauer nachlesen! Eure Einladung könnt ihr euch hier einfach selbst ausstellen.
URL:https://isarsparer.de/veranstaltung/family-friends-wsv-2018-bei-schustermann-borenstein/
CATEGORIES:Einkaufen
ATTACH;FMTTYPE=image/jpeg:https://isarsparer.de/wp-content/uploads/2016/06/snapseed-16.jpg
END:VEVENT
BEGIN:VEVENT
DTSTART;TZID=Europe/Berlin:20180207T140000
DTEND;TZID=Europe/Berlin:20180211T200000
DTSTAMP:20260419T230519
CREATED:20180124T211912Z
LAST-MODIFIED:20180124T213455Z
UID:2619-1518012000-1518379200@isarsparer.de
SUMMARY:Diplomausstellung 2018
DESCRIPTION:Karte wird geladen - bitte warten...Karte konnte nicht geladen werden - bitte aktivieren Sie Javascript!→ Weitere Informationen \n\nAkademie der Bildenden Künste\n48.153143\, 11.580034\n\n\nAusstellung der Diplomanden 2018 der Akademie der Bildenden Künste München von Mittwoch\, 7. Februar bis Sonntag\, 11. Februar. \nÖffnungszeiten: Mi – Fr 14:00 – 20:00 Uhr | Sa/So 11:00 – 20:00 \n 
URL:https://isarsparer.de/veranstaltung/diplomausstellung-2018/
LOCATION:Akademie der Bildenden Künste München\, Akademiestraße 2 - 4\, München\, Bayern\, 80799
CATEGORIES:Kultur
END:VEVENT
END:VCALENDAR