BEGIN:VCALENDAR
VERSION:2.0
PRODID:-// - ECPv6.0.6.2//NONSGML v1.0//EN
CALSCALE:GREGORIAN
METHOD:PUBLISH
X-ORIGINAL-URL:https://isarsparer.de
X-WR-CALDESC:Veranstaltungen im 
REFRESH-INTERVAL;VALUE=DURATION:PT1H
X-Robots-Tag:noindex
X-PUBLISHED-TTL:PT1H
BEGIN:VTIMEZONE
TZID:Europe/Berlin
BEGIN:DAYLIGHT
TZOFFSETFROM:+0100
TZOFFSETTO:+0200
TZNAME:CEST
DTSTART:20180325T010000
END:DAYLIGHT
BEGIN:STANDARD
TZOFFSETFROM:+0200
TZOFFSETTO:+0100
TZNAME:CET
DTSTART:20181028T010000
END:STANDARD
END:VTIMEZONE
BEGIN:VEVENT
DTSTART;TZID=Europe/Berlin:20181212T180000
DTEND;TZID=Europe/Berlin:20181212T200000
DTSTAMP:20260420T104016
CREATED:20180927T173225Z
LAST-MODIFIED:20180927T173225Z
UID:3016-1544637600-1544644800@isarsparer.de
SUMMARY:Ins Münchner Stadtmuseum mit reduziertem Abendticket im Dezember
DESCRIPTION:Jeden 2. Mittwoch im Monat sind ausgewählte Ausstellungen des Münchner Stadtmuseums bis 20:00 Uhr geöffnet. \nIm Dezember ist dies Mittwoch\, der 12. Dezember. Von 18 bis 20 Uhr kann man die Dauerausstellung „Typisch München!“ und „‚Ehem. jüdischer Besitz’ – Erwerbungen des Münchner Stadtmuseums im Nationalsozialismus”mit dem Abendticket für 3\,50 Euro besuchen. An diesem Abend ist auch eine Tandem-Führung durch die Ausstellung „Migration bewegt die Stadt“ im Angebot. \nDer reguläre Eintrittspreis für Erwachsene beträgt im Stadtmuseum sonst 7 Euro. \nAlle Angaben ohne Gewähr: ISARSPARER ist nicht der Veranstalter\, letzte Details bitte daher der Homepage des Veranstalters entnehmen!
URL:https://isarsparer.de/veranstaltung/ins-muenchner-stadtmuseum-mit-reduziertem-abendticket-im-dezember/
LOCATION:Münchner Stadtmuseum\, St.-Jakobs-Platz 1\, München\, Bayern\, 80331\, Deutschland
CATEGORIES:Kultur
END:VEVENT
END:VCALENDAR