BEGIN:VCALENDAR
VERSION:2.0
PRODID:-// - ECPv6.0.6.2//NONSGML v1.0//EN
CALSCALE:GREGORIAN
METHOD:PUBLISH
X-ORIGINAL-URL:https://isarsparer.de
X-WR-CALDESC:Veranstaltungen im 
REFRESH-INTERVAL;VALUE=DURATION:PT1H
X-Robots-Tag:noindex
X-PUBLISHED-TTL:PT1H
BEGIN:VTIMEZONE
TZID:Europe/Berlin
BEGIN:DAYLIGHT
TZOFFSETFROM:+0100
TZOFFSETTO:+0200
TZNAME:CEST
DTSTART:20180325T010000
END:DAYLIGHT
BEGIN:STANDARD
TZOFFSETFROM:+0200
TZOFFSETTO:+0100
TZNAME:CET
DTSTART:20181028T010000
END:STANDARD
END:VTIMEZONE
BEGIN:VEVENT
DTSTART;TZID=Europe/Berlin:20180301T180000
DTEND;TZID=Europe/Berlin:20180301T220000
DTSTAMP:20260419T200020
CREATED:20180105T103820Z
LAST-MODIFIED:20180107T093823Z
UID:2492-1519927200-1519941600@isarsparer.de
SUMMARY:#freefirstthursdayHDK im März
DESCRIPTION:Karte wird geladen - bitte warten...Karte konnte nicht geladen werden - bitte aktivieren Sie Javascript!→ Weitere Informationen \n\nHaus der Kunst\n48.144117\, 11.585963\nJeden 1. Donnerstag im Monat gibt es im Haus der Kunst freien Eintritt von 18 bis 22 Uhr #freefirstthursdayHDK\n\nJeden 1. Donnerstag im Monat ist der Eintritt von 18 bis 22 Uhr im Haus der Kunst (#freefirstthursdayHDK) frei. Im März ist das Donnerstag\, der 1. März 2018. \nAlle Angaben ohne Gewähr: ISARSPARER ist nicht der Veranstalter\, letzte Details bitte daher der Homepage des Veranstalters entnehmen!
URL:https://isarsparer.de/veranstaltung/freefirstthursdayhdk-im-maerz/
LOCATION:Haus der Kunst\, Prinzregentenstraße 1\, München\, 80538\, Deutschland
CATEGORIES:Kultur
ATTACH;FMTTYPE=image/jpeg:https://isarsparer.de/wp-content/uploads/2018/01/Haus-der-Kunst_ISARSPARER-freier-Eintritt.jpg
END:VEVENT
BEGIN:VEVENT
DTSTART;TZID=Europe/Berlin:20180302T180000
DTEND;TZID=Europe/Berlin:20180302T220000
DTSTAMP:20260419T200020
CREATED:20180105T103526Z
LAST-MODIFIED:20180114T202613Z
UID:2490-1520013600-1520028000@isarsparer.de
SUMMARY:"Friday Late" der Villa Stuck im März
DESCRIPTION:Karte wird geladen - bitte warten...Karte konnte nicht geladen werden - bitte aktivieren Sie Javascript!→ Weitere Informationen \n\nMuseum Villa Stuck\n48.140487\, 11.599661\nJeden 1. Freitag ist der Eintritt zur zusätzlichen Abendöffnungszeit von 18 bis 22 Uhr „Friday Late“ in der Villa Stuck frei.\n\nJeden 1. Freitag im Monat ist der Eintritt in Villa Stuck von 18 bis 22 Uhr („Friday Late“) frei. Im März ist das Freitag\, der 2. März 2018. \nAlle Angaben ohne Gewähr: ISARSPARER ist nicht der Veranstalter\, letzte Details bitte daher der Homepage des Veranstalters entnehmen!
URL:https://isarsparer.de/veranstaltung/friday-late-in-der-villa-stuck-im-maerz/
LOCATION:Museum Villa Stuck\, Prinzregentenstr. 60\, München\, 81675\, Deutschland
CATEGORIES:Kultur
ATTACH;FMTTYPE=image/jpeg:https://isarsparer.de/wp-content/uploads/2018/01/Villa-Stuck-Friday-Late.jpg
END:VEVENT
BEGIN:VEVENT
DTSTART;TZID=Europe/Berlin:20180314T180000
DTEND;TZID=Europe/Berlin:20180314T200000
DTSTAMP:20260419T200020
CREATED:20180216T182256Z
LAST-MODIFIED:20180226T132515Z
UID:2653-1521050400-1521057600@isarsparer.de
SUMMARY:Ins Münchner Stadtmuseum mit reduziertem Abendticket im März
DESCRIPTION:Jeden 2. Mittwoch im Monat sind ausgewählte Ausstellungen des Münchner Stadtmuseums bis 20:00 Uhr geöffnet. \nIm März ist dies Mittwoch\, der 14. März. Von 18 bis 20 Uhr kann man das Stadtmuseum mit dem Abendticket für 3\,50 Euro besuchen. \nDer reguläre Eintrittspreis für Erwachsene beträgt 7 Euro. \nAlle Angaben ohne Gewähr: ISARSPARER ist nicht der Veranstalter\, letzte Details bitte daher der Homepage des Veranstalters entnehmen!
URL:https://isarsparer.de/veranstaltung/ins-muenchner-stadtmuseum-mit-reduziertem-abendticket/
LOCATION:Münchner Stadtmuseum\, St.-Jakobs-Platz 1\, München\, Bayern\, 80331\, Deutschland
CATEGORIES:Kultur
END:VEVENT
BEGIN:VEVENT
DTSTART;TZID=Europe/Berlin:20180319T060000
DTEND;TZID=Europe/Berlin:20180326T233000
DTSTAMP:20260419T200020
CREATED:20180323T140718Z
LAST-MODIFIED:20180323T141203Z
UID:2698-1521439200-1522107000@isarsparer.de
SUMMARY:Oster-Angebote-Woche bei Amazon
DESCRIPTION:Vom 19. bis 26. März 2018\, also sozusagen in der Woche vor Ostern\, gibt es bei Amazon eine Oster-Angebot-Woche. Jeden Tag gibt es ab 6 Uhr morgens neue Angebote\, Dauerbrenner wie Amazon-Angebote wie Echo-Dot* oder Fire-TV-Stick* sind die ganze Oster-Angebots-Woche zu reduzierten Preisen erhältlich. \nDazu zählt auch der Kindle Paperwhite* (mit Spezialangebot)\, das in dieser Zeit 74\,99 statt 119\,99 Euro kostet. In einem Blogpost haben wir es im direkten Vergleich mit Tolino getestet. Darin erklären wir bspw. auch\, was „Spezialangebot“ bedeutet.
URL:https://isarsparer.de/veranstaltung/oster-angebote-woche-bei-amazon/
END:VEVENT
BEGIN:VEVENT
DTSTART;VALUE=DATE:20180329
DTEND;VALUE=DATE:20180408
DTSTAMP:20260419T200020
CREATED:20180116T194421Z
LAST-MODIFIED:20180117T121413Z
UID:2583-1522281600-1523145599@isarsparer.de
SUMMARY:GLAMOUR Shopping-Week im Frühjahr
DESCRIPTION:Die GLAMOUR Shopping-Week im Frühjahr findet dieses Jahr vom 29. März bis 7. April 2018 statt. \nBei über 180 Partner wird es dann wieder satte Rabatte\, Aktionen und Geschenke geben. Um an der GLAMOUR Shopping-Week teilnehmen zu können\, braucht man die GLAMOUR Shopping-Card\, die man entweder mit einer Ausgabe der Zeitschrift GLAMOUR oder direkt in der App erwerben kann. \nWie man auch ohne GLAMOUR Shopping-Card Rabatte bekommen kann\, darüber habe ich hier gebloggt. \n 
URL:https://isarsparer.de/veranstaltung/glamour-shopping-week-im-fruehjahr/
CATEGORIES:Einkaufen
ATTACH;FMTTYPE=image/jpeg:https://isarsparer.de/wp-content/uploads/2017/03/img_6527.jpg
END:VEVENT
END:VCALENDAR