BEGIN:VCALENDAR
VERSION:2.0
PRODID:-// - ECPv6.0.6.2//NONSGML v1.0//EN
CALSCALE:GREGORIAN
METHOD:PUBLISH
X-ORIGINAL-URL:https://isarsparer.de
X-WR-CALDESC:Veranstaltungen im 
REFRESH-INTERVAL;VALUE=DURATION:PT1H
X-Robots-Tag:noindex
X-PUBLISHED-TTL:PT1H
BEGIN:VTIMEZONE
TZID:Europe/Berlin
BEGIN:DAYLIGHT
TZOFFSETFROM:+0100
TZOFFSETTO:+0200
TZNAME:CEST
DTSTART:20180325T010000
END:DAYLIGHT
BEGIN:STANDARD
TZOFFSETFROM:+0200
TZOFFSETTO:+0100
TZNAME:CET
DTSTART:20181028T010000
END:STANDARD
END:VTIMEZONE
BEGIN:VEVENT
DTSTART;VALUE=DATE:20180329
DTEND;VALUE=DATE:20180408
DTSTAMP:20260419T200135
CREATED:20180116T194421Z
LAST-MODIFIED:20180117T121413Z
UID:2583-1522281600-1523145599@isarsparer.de
SUMMARY:GLAMOUR Shopping-Week im Frühjahr
DESCRIPTION:Die GLAMOUR Shopping-Week im Frühjahr findet dieses Jahr vom 29. März bis 7. April 2018 statt. \nBei über 180 Partner wird es dann wieder satte Rabatte\, Aktionen und Geschenke geben. Um an der GLAMOUR Shopping-Week teilnehmen zu können\, braucht man die GLAMOUR Shopping-Card\, die man entweder mit einer Ausgabe der Zeitschrift GLAMOUR oder direkt in der App erwerben kann. \nWie man auch ohne GLAMOUR Shopping-Card Rabatte bekommen kann\, darüber habe ich hier gebloggt. \n 
URL:https://isarsparer.de/veranstaltung/glamour-shopping-week-im-fruehjahr/
CATEGORIES:Einkaufen
ATTACH;FMTTYPE=image/jpeg:https://isarsparer.de/wp-content/uploads/2017/03/img_6527.jpg
END:VEVENT
BEGIN:VEVENT
DTSTART;TZID=Europe/Berlin:20180405T180000
DTEND;TZID=Europe/Berlin:20180405T220000
DTSTAMP:20260419T200135
CREATED:20180107T092326Z
LAST-MODIFIED:20180107T092326Z
UID:2518-1522951200-1522965600@isarsparer.de
SUMMARY:#freefirstthursdayHDK im April
DESCRIPTION:Jeden 1. Donnerstag im Monat ist der Eintritt von 18 bis 22 Uhr im Haus der Kunst (#freefirstthursdayHDK) frei. Im April ist das Donnerstag\, der 5. April 2018. \n\nKarte wird geladen - bitte warten...Karte konnte nicht geladen werden - bitte aktivieren Sie Javascript!→ Weitere Informationen \n\nHaus der Kunst\n48.144117\, 11.585963\nJeden 1. Donnerstag im Monat gibt es im Haus der Kunst freien Eintritt von 18 bis 22 Uhr #freefirstthursdayHDK\n\n\nAlle Angaben ohne Gewähr: ISARSPARER ist nicht der Veranstalter\, letzte Details bitte daher der Homepage des Veranstalters entnehmen!
URL:https://isarsparer.de/veranstaltung/2518/
LOCATION:Haus der Kunst\, Prinzregentenstraße 1\, München\, 80538\, Deutschland
CATEGORIES:Kultur
ATTACH;FMTTYPE=image/jpeg:https://isarsparer.de/wp-content/uploads/2018/01/Haus-der-Kunst_ISARSPARER-freier-Eintritt.jpg
END:VEVENT
BEGIN:VEVENT
DTSTART;TZID=Europe/Berlin:20180406T180000
DTEND;TZID=Europe/Berlin:20180406T220000
DTSTAMP:20260419T200135
CREATED:20180107T092817Z
LAST-MODIFIED:20180411T152328Z
UID:2520-1523037600-1523052000@isarsparer.de
SUMMARY:"Friday Late" der Villa Stuck im April
DESCRIPTION:Karte wird geladen - bitte warten...Karte konnte nicht geladen werden - bitte aktivieren Sie Javascript!→ Weitere Informationen \n\nMuseum Villa Stuck\n48.140487\, 11.599661\nJeden 1. Freitag ist der Eintritt zur zusätzlichen Abendöffnungszeit von 18 bis 22 Uhr „Friday Late“ in der Villa Stuck frei.\n\n Jeden 1. Freitag im Monat ist der Eintritt in Villa Stuck von 18 bis 22 Uhr („Friday Late“) frei. Im April ist das Freitag\, der 6. April 2018. \nZum 50. Jubiläum des Museums ist die Amazone\, die sonst so prominent vor dem Eingang steht\, wieder nach innen gewandert. Die Ausstellung „Betreff: Schicksal Villa Stuck“ bietet im ehemaligen Atelier des Künstlers ein Spektrum über dessen Arbeiten. \nAlle Angaben ohne Gewähr: ISARSPARER ist nicht der Veranstalter\, letzte Details bitte daher der Homepage des Veranstalters entnehmen!
URL:https://isarsparer.de/veranstaltung/friday-late-der-villa-stuck-im-april/
LOCATION:Museum Villa Stuck\, Prinzregentenstr. 60\, München\, 81675\, Deutschland
CATEGORIES:Kultur
ATTACH;FMTTYPE=image/jpeg:https://isarsparer.de/wp-content/uploads/2018/01/Villa-Stuck-Friday-Late.jpg
END:VEVENT
BEGIN:VEVENT
DTSTART;TZID=Europe/Berlin:20180411T180000
DTEND;TZID=Europe/Berlin:20180411T200000
DTSTAMP:20260419T200135
CREATED:20180216T183116Z
LAST-MODIFIED:20180226T132443Z
UID:2656-1523469600-1523476800@isarsparer.de
SUMMARY:Ins Münchner Stadtmuseum mit reduziertem Abendticket im April
DESCRIPTION:Jeden 2. Mittwoch im Monat sind ausgewählte Ausstellungen des Münchner Stadtmuseums bis 20:00 Uhr geöffnet. \nIm April ist dies Mittwoch\, der 11. April 2018. Von 18 bis 20 Uhr kann man das Stadtmuseum mit dem Abendticket für 3\,50 Euro besuchen. \nDer reguläre Eintrittspreis für Erwachsene beträgt 7 Euro. \nAlle Angaben ohne Gewähr: ISARSPARER ist nicht der Veranstalter\, letzte Details bitte daher der Homepage des Veranstalters entnehmen!
URL:https://isarsparer.de/veranstaltung/ins-muenchner-stadtmuseum-mit-reduziertem-abendticket-2/
LOCATION:Münchner Stadtmuseum\, St.-Jakobs-Platz 1\, München\, Bayern\, 80331\, Deutschland
CATEGORIES:Kultur
END:VEVENT
BEGIN:VEVENT
DTSTART;VALUE=DATE:20180430
DTEND;VALUE=DATE:20180506
DTSTAMP:20260419T200135
CREATED:20180502T181938Z
LAST-MODIFIED:20180502T182518Z
UID:2750-1525046400-1525564799@isarsparer.de
SUMMARY:5 Jahre dm an der TeLa: 10 Prozent
DESCRIPTION:Den dm-Drogeriemarkt an der Tegernseer Landstraße gibt es seit 5 Jahren. Aus diesem Grund gibt es von Montag\, 30. April bis Samstag\, 5. Mai 2018 dort 10 Prozent. \nDen dm in Giesing erreicht ihr via Tram oder U-Bahn\, wenn ihr an der Silberhornstraße aussteigt. Die Anschrift lautet:\nTegernseer Landstraße 64\n81541 München \nÜbrigens: Wer Prozent-Gutscheine von anderen Drogeriemärkten wie zum Beispiel Rossmann hat\, erhält dafür 10fach Payback-Punkte bei dm. Das ist vielleicht interessant\, wenn ihr mit den aktuell 10 Prozent in der Filiale an der TeLa einen kleinen dm-Hamsterkauf plant. Klopapier\, Shampoo und Co können ja zum Glück nicht ablaufen. \nWie ein Jubiläum oder eine Neueröffnung bei dm gefeiert wird\, darüber habe ich schon ausführlich gebloggt: Ihr könnt es hier nachlesen. \n  \n  \n 
URL:https://isarsparer.de/veranstaltung/5-jahre-dm-an-der-tela-10-prozent/
END:VEVENT
END:VCALENDAR