BEGIN:VCALENDAR
VERSION:2.0
PRODID:-// - ECPv6.0.6.2//NONSGML v1.0//EN
CALSCALE:GREGORIAN
METHOD:PUBLISH
X-ORIGINAL-URL:https://isarsparer.de
X-WR-CALDESC:Veranstaltungen im 
REFRESH-INTERVAL;VALUE=DURATION:PT1H
X-Robots-Tag:noindex
X-PUBLISHED-TTL:PT1H
BEGIN:VTIMEZONE
TZID:Europe/Berlin
BEGIN:DAYLIGHT
TZOFFSETFROM:+0100
TZOFFSETTO:+0200
TZNAME:CEST
DTSTART:20180325T010000
END:DAYLIGHT
BEGIN:STANDARD
TZOFFSETFROM:+0200
TZOFFSETTO:+0100
TZNAME:CET
DTSTART:20181028T010000
END:STANDARD
END:VTIMEZONE
BEGIN:VEVENT
DTSTART;VALUE=DATE:20180430
DTEND;VALUE=DATE:20180506
DTSTAMP:20260419T144949
CREATED:20180502T181938Z
LAST-MODIFIED:20180502T182518Z
UID:2750-1525046400-1525564799@isarsparer.de
SUMMARY:5 Jahre dm an der TeLa: 10 Prozent
DESCRIPTION:Den dm-Drogeriemarkt an der Tegernseer Landstraße gibt es seit 5 Jahren. Aus diesem Grund gibt es von Montag\, 30. April bis Samstag\, 5. Mai 2018 dort 10 Prozent. \nDen dm in Giesing erreicht ihr via Tram oder U-Bahn\, wenn ihr an der Silberhornstraße aussteigt. Die Anschrift lautet:\nTegernseer Landstraße 64\n81541 München \nÜbrigens: Wer Prozent-Gutscheine von anderen Drogeriemärkten wie zum Beispiel Rossmann hat\, erhält dafür 10fach Payback-Punkte bei dm. Das ist vielleicht interessant\, wenn ihr mit den aktuell 10 Prozent in der Filiale an der TeLa einen kleinen dm-Hamsterkauf plant. Klopapier\, Shampoo und Co können ja zum Glück nicht ablaufen. \nWie ein Jubiläum oder eine Neueröffnung bei dm gefeiert wird\, darüber habe ich schon ausführlich gebloggt: Ihr könnt es hier nachlesen. \n  \n  \n 
URL:https://isarsparer.de/veranstaltung/5-jahre-dm-an-der-tela-10-prozent/
END:VEVENT
BEGIN:VEVENT
DTSTART;TZID=Europe/Berlin:20180503T180000
DTEND;TZID=Europe/Berlin:20180503T220000
DTSTAMP:20260419T144949
CREATED:20180411T152635Z
LAST-MODIFIED:20180411T152954Z
UID:2711-1525370400-1525384800@isarsparer.de
SUMMARY:#freefirstthursdayHDK im Mai
DESCRIPTION:Jeden 1. Donnerstag im Monat ist der Eintritt von 18 bis 22 Uhr im Haus der Kunst (#freefirstthursdayHDK) frei. Im Mai ist das Donnerstag\, der 3. Mai 2018. \n\nKarte wird geladen - bitte warten...Karte konnte nicht geladen werden - bitte aktivieren Sie Javascript!→ Weitere Informationen \n\nHaus der Kunst\n48.144117\, 11.585963\nJeden 1. Donnerstag im Monat gibt es im Haus der Kunst freien Eintritt von 18 bis 22 Uhr #freefirstthursdayHDK\n\n\nAlle Angaben ohne Gewähr: ISARSPARER ist nicht der Veranstalter\, letzte Details bitte daher der Homepage des Veranstalters entnehmen!
URL:https://isarsparer.de/veranstaltung/freefirstthursdayhdk-im-mai/
LOCATION:Haus der Kunst\, Prinzregentenstraße 1\, München\, 80538\, Deutschland
CATEGORIES:Kultur
ATTACH;FMTTYPE=image/jpeg:https://isarsparer.de/wp-content/uploads/2018/01/Haus-der-Kunst_ISARSPARER-freier-Eintritt.jpg
END:VEVENT
BEGIN:VEVENT
DTSTART;TZID=Europe/Berlin:20180504T180000
DTEND;TZID=Europe/Berlin:20180504T220000
DTSTAMP:20260419T144949
CREATED:20180105T101708Z
LAST-MODIFIED:20180502T183327Z
UID:2480-1525456800-1525471200@isarsparer.de
SUMMARY:"Friday Late" der Villa Stuck im Mai
DESCRIPTION:Karte wird geladen - bitte warten...Karte konnte nicht geladen werden - bitte aktivieren Sie Javascript!→ Weitere Informationen \n\nMuseum Villa Stuck\n48.140487\, 11.599661\nJeden 1. Freitag ist der Eintritt zur zusätzlichen Abendöffnungszeit von 18 bis 22 Uhr „Friday Late“ in der Villa Stuck frei.\n\nJeden 1. Freitag im Monat ist der Eintritt in Villa Stuck von 18 bis 22 Uhr (Friday Late) frei. Im Mai ist das Freitag\, der 4. Mai. \nZum 50. Jubiläum des Museums ist die Amazone\, die sonst so prominent vor dem Eingang steht\, wieder nach innen gewandert. Die Ausstellung „Betreff: Schicksal Villa Stuck“ bietet im ehemaligen Atelier des Künstlers ein Spektrum über dessen Arbeiten. Es ist die letzte Gelegenheit\, die Ausstellung im Rahmen eines „Friday Late“ zu besuchen. \nUm 18 Uhr führen „jugendliche Museumsexperten“ durch das Museum; um 19.30 Uhr die Münchner Volkshochschule durch die Rudolf Bott Enduro-Ausstellung und um 20.30 Uhr durch die Jubiläumsausstellung. Auch die Teilnahme an den Führungen ist frei. \nAlle Angaben ohne Gewähr: ISARSPARER ist nicht der Veranstalter\, letzte Details bitte daher der Homepage des Veranstalters entnehmen!
URL:https://isarsparer.de/veranstaltung/friday-late-im-mai/
LOCATION:Museum Villa Stuck\, Prinzregentenstr. 60\, München\, 81675\, Deutschland
CATEGORIES:Kultur
ATTACH;FMTTYPE=image/jpeg:https://isarsparer.de/wp-content/uploads/2018/01/Villa-Stuck-Friday-Late.jpg
END:VEVENT
BEGIN:VEVENT
DTSTART;TZID=Europe/Berlin:20180509T180000
DTEND;TZID=Europe/Berlin:20180509T200000
DTSTAMP:20260419T144949
CREATED:20180411T155930Z
LAST-MODIFIED:20180411T160320Z
UID:2725-1525888800-1525896000@isarsparer.de
SUMMARY:Ins Münchner Stadtmuseum mit reduziertem Abendticket im Mai
DESCRIPTION:Jeden 2. Mittwoch im Monat sind ausgewählte Ausstellungen des Münchner Stadtmuseums bis 20:00 Uhr geöffnet. \nIm Mai ist dies Mittwoch\, der 9. Mai. Von 18 bis 20 Uhr kann man die Dauerausstellung „Typisch München“ mit dem Abendticket für 3\,50 Euro besuchen. \nDer reguläre Eintrittspreis für Erwachsene beträgt 7 Euro. \nAlle Angaben ohne Gewähr: ISARSPARER ist nicht der Veranstalter\, letzte Details bitte daher der Homepage des Veranstalters entnehmen!
URL:https://isarsparer.de/veranstaltung/ins-muenchner-stadtmuseum-mit-reduziertem-abendticket-im-mai/
LOCATION:Münchner Stadtmuseum\, St.-Jakobs-Platz 1\, München\, Bayern\, 80331\, Deutschland
CATEGORIES:Kultur
END:VEVENT
BEGIN:VEVENT
DTSTART;VALUE=DATE:20180513
DTEND;VALUE=DATE:20180514
DTSTAMP:20260419T144949
CREATED:20180511T121636Z
LAST-MODIFIED:20180511T121851Z
UID:2776-1526169600-1526255999@isarsparer.de
SUMMARY:Internationaler Museumstag 2018
DESCRIPTION:Am Sonntag\, den 13. Mai 2018 ist nicht nur Muttertag\, sondern auch Internationaler Museumstag. Aus diesem Grund gibt es viele tolle Aktionen in den Münchner Museen – zum Teil auch freien Eintritt wie zum Beispiel in das Münchner Stadtmuseum oder das Jüdische Museum. \nEinfach auf der Webseite des Internationalen Museumstages „München“ eingeben und nach Veranstaltungen suchen: www.museumstag.de \nNicht vergessen: Auch wenn nicht Museumstag ist\, gibt es in München einige Museen\, die keinen Eintritt kosten oder am Sonntag nur einen Euro; hier findet ihr die entsprechenden Blogposts: \n\nDie Liste mit Münchner Museen mit freiem Eintritt oder Sparmöglichkeiten beim Ticketkauf.\nDie Liste mit Museen\, in denen der Eintritt am Sonntag einen Euro kostet.
URL:https://isarsparer.de/veranstaltung/internationaler-museumstag-2018/
CATEGORIES:Kultur
END:VEVENT
BEGIN:VEVENT
DTSTART;VALUE=DATE:20180517
DTEND;VALUE=DATE:20180527
DTSTAMP:20260419T144949
CREATED:20180520T104102Z
LAST-MODIFIED:20180526T104119Z
UID:2795-1526515200-1527379199@isarsparer.de
SUMMARY:15 Jahre dm im PEP: 10 Prozent
DESCRIPTION:Der dm-Markt im PEP feiert seinen 15. Geburtstag. Aus diesem Grund gibt es in der dortigen Filiale vom 17.-26. Mai 2018 10 Prozent. \nAber das ist noch nicht alles – dm hat sich weitere Aktionen für seinen Kunden ausgedacht.
URL:https://isarsparer.de/veranstaltung/15-jahre-dm-im-pep-10-prozent/
CATEGORIES:Einkaufen
END:VEVENT
BEGIN:VEVENT
DTSTART;TZID=Europe/Berlin:20180517T080000
DTEND;TZID=Europe/Berlin:20180517T200000
DTSTAMP:20260419T144949
CREATED:20180511T135242Z
LAST-MODIFIED:20180527T135315Z
UID:2818-1526544000-1526587200@isarsparer.de
SUMMARY:Eröffnung Primark im PEP
DESCRIPTION:Seit 2016 steht es fest; Am Donnerstag\, den 17. Mai 2018 ist es nun endlich soweit . Der irische Textil-Riese Primark eröffnet seine Filiale im PEP. Es ist die erste Filiale in Bayern.
URL:https://isarsparer.de/veranstaltung/eroeffnung-primark-im-pep/
CATEGORIES:Einkaufen
END:VEVENT
END:VCALENDAR