BEGIN:VCALENDAR
VERSION:2.0
PRODID:-// - ECPv6.0.6.2//NONSGML v1.0//EN
CALSCALE:GREGORIAN
METHOD:PUBLISH
X-ORIGINAL-URL:https://isarsparer.de
X-WR-CALDESC:Veranstaltungen im 
REFRESH-INTERVAL;VALUE=DURATION:PT1H
X-Robots-Tag:noindex
X-PUBLISHED-TTL:PT1H
BEGIN:VTIMEZONE
TZID:Europe/Berlin
BEGIN:DAYLIGHT
TZOFFSETFROM:+0100
TZOFFSETTO:+0200
TZNAME:CEST
DTSTART:20190331T010000
END:DAYLIGHT
BEGIN:STANDARD
TZOFFSETFROM:+0200
TZOFFSETTO:+0100
TZNAME:CET
DTSTART:20191027T010000
END:STANDARD
END:VTIMEZONE
BEGIN:VEVENT
DTSTART;TZID=Europe/Berlin:20190201T180000
DTEND;TZID=Europe/Berlin:20190201T200000
DTSTAMP:20260420T170919
CREATED:20190108T184116Z
LAST-MODIFIED:20190108T184116Z
UID:3263-1549044000-1549051200@isarsparer.de
SUMMARY:Friday Late in der Villa Stuck im Februar
DESCRIPTION:Jeden 1. Freitag im Monat ist der Eintritt in die  Villa Stuck von 18 bis 22 Uhr (Friday Late) frei. Im Februar 2019 ist das Freitag\, der 1. Februar. \nGleichzeitig ist das die letzte Gelegenheit\, spätabends in der Ausstellung von Thomas Hirschhorn „Never give up the spot“ zu arbeiten. Ja\, richtig gelesen! In die Ruinenlandschaft kann und soll man sich selbst einbringen – hier habe ich darüber gebloggt. Der Friday Late im Februar ist also quasi so etwas wie die „Abrissparty“. Die Ausstellung war gratis\, aber an diesem Abend kann man auch gratis die historischen Räume besuchen. \nNeben dem Friday Late der Villa Stuck\, ist auch der Eintritt in das Haus der Kunst einmal im Monat gratis. Alle Termine der beiden Häuser gibt es im Überblick in diesem Post. \nAlle Angaben ohne Gewähr: ISARSPARER ist nicht der Veranstalter\, letzte Details bitte daher der Homepage des Veranstalters entnehmen!
URL:https://isarsparer.de/veranstaltung/friday-late-in-der-villa-stuck-im-februar/
LOCATION:Museum Villa Stuck\, Prinzregentenstr. 60\, München\, 81675\, Deutschland
CATEGORIES:Kultur
ATTACH;FMTTYPE=image/jpeg:https://isarsparer.de/wp-content/uploads/2019/01/Villa-Stuck-Never-give-up-the-spot-Hirschhorn-e1546952097813.jpg
END:VEVENT
END:VCALENDAR